BEGIN:VCALENDAR
VERSION:2.0
PRODID:-//Lehigh Valley Bahai - ECPv6.15.20//NONSGML v1.0//EN
CALSCALE:GREGORIAN
METHOD:PUBLISH
X-ORIGINAL-URL:https://www.bahailv.org
X-WR-CALDESC:Events for Lehigh Valley Bahai
REFRESH-INTERVAL;VALUE=DURATION:PT1H
X-Robots-Tag:noindex
X-PUBLISHED-TTL:PT1H
BEGIN:VTIMEZONE
TZID:America/New_York
BEGIN:DAYLIGHT
TZOFFSETFROM:-0500
TZOFFSETTO:-0400
TZNAME:EDT
DTSTART:20220313T070000
END:DAYLIGHT
BEGIN:STANDARD
TZOFFSETFROM:-0400
TZOFFSETTO:-0500
TZNAME:EST
DTSTART:20221106T060000
END:STANDARD
BEGIN:DAYLIGHT
TZOFFSETFROM:-0500
TZOFFSETTO:-0400
TZNAME:EDT
DTSTART:20230312T070000
END:DAYLIGHT
BEGIN:STANDARD
TZOFFSETFROM:-0400
TZOFFSETTO:-0500
TZNAME:EST
DTSTART:20231105T060000
END:STANDARD
BEGIN:DAYLIGHT
TZOFFSETFROM:-0500
TZOFFSETTO:-0400
TZNAME:EDT
DTSTART:20240310T070000
END:DAYLIGHT
BEGIN:STANDARD
TZOFFSETFROM:-0400
TZOFFSETTO:-0500
TZNAME:EST
DTSTART:20241103T060000
END:STANDARD
END:VTIMEZONE
BEGIN:VEVENT
DTSTART;TZID=America/New_York:20230904T080000
DTEND;TZID=America/New_York:20230904T170000
DTSTAMP:20260425T110501
CREATED:20230701T230336Z
LAST-MODIFIED:20230701T230337Z
UID:10001369-1693814400-1693846800@www.bahailv.org
SUMMARY:Registration for Camp Tabarsi.
DESCRIPTION:  \n\nSharing this email received from Marie McNair of the Regional Baha’i Council of Northeastern States:\n\n \n\nDear Friends\,\n\n\n\nPlease see the message below about registration for Camp Tabarsi\, a Baha’i-inspired sleepaway camp for junior youth.  Your assistance in sharing this information with the families of junior youth in your vicinity is greatly appreciated.\n\nWith loving regards\,\n\nRegional Baha’i Council of the Northeastern States\n\nMarie McNair\, Secretary \n \n\n\n\n\n\n\nView this email in your browser \n\n\n\n\n\n\n\n\n\n\n\n\n\n\n\nAlláh-u-Abhá Camp Tabarsi Family\, \nWe are thrilled to welcome you to Camp Tabarsi for the 2023 season. Camp Tabarsi is a Baha’i-inspired sleepaway camp dedicated to the spiritual and social development of junior youth. Registration is now open for this year and we invite you to join us for an incredible summer experience. \nCamp will take place over the Labor Day weekend\, from Friday\, September 1st through Monday\, September 4th. For more information and to register\, please visit our brand new website! Don’t forget to check out our FAQ section for any questions you may have. \nPlease feel free to forward this email to spread the word and share the excitement with others who may be interested. \nCamp Tabarsi is more than just a place; it’s a vibrant community that thrives on the energy and dedication of individuals like you. Join us in creating an environment where junior youth flourish\, forge lasting friendships\, and develop their potential to contribute to a better world. \nWarm regards\, \nThe Camp Tabarsi Planning Committee  \nSuzan & David Gould\, Managing Directors of Camp Tabarsi
URL:https://www.bahailv.org/event/registration-for-camp-tabarsi/2023-09-04/
END:VEVENT
END:VCALENDAR