BEGIN:VCALENDAR
VERSION:2.0
PRODID:-//Lehigh Valley Bahai - ECPv6.15.20//NONSGML v1.0//EN
CALSCALE:GREGORIAN
METHOD:PUBLISH
X-ORIGINAL-URL:https://www.bahailv.org
X-WR-CALDESC:Events for Lehigh Valley Bahai
REFRESH-INTERVAL;VALUE=DURATION:PT1H
X-Robots-Tag:noindex
X-PUBLISHED-TTL:PT1H
BEGIN:VTIMEZONE
TZID:America/New_York
BEGIN:DAYLIGHT
TZOFFSETFROM:-0500
TZOFFSETTO:-0400
TZNAME:EDT
DTSTART:20220313T070000
END:DAYLIGHT
BEGIN:STANDARD
TZOFFSETFROM:-0400
TZOFFSETTO:-0500
TZNAME:EST
DTSTART:20221106T060000
END:STANDARD
BEGIN:DAYLIGHT
TZOFFSETFROM:-0500
TZOFFSETTO:-0400
TZNAME:EDT
DTSTART:20230312T070000
END:DAYLIGHT
BEGIN:STANDARD
TZOFFSETFROM:-0400
TZOFFSETTO:-0500
TZNAME:EST
DTSTART:20231105T060000
END:STANDARD
BEGIN:DAYLIGHT
TZOFFSETFROM:-0500
TZOFFSETTO:-0400
TZNAME:EDT
DTSTART:20240310T070000
END:DAYLIGHT
BEGIN:STANDARD
TZOFFSETFROM:-0400
TZOFFSETTO:-0500
TZNAME:EST
DTSTART:20241103T060000
END:STANDARD
END:VTIMEZONE
BEGIN:VEVENT
DTSTART;TZID=America/New_York:20230820T140000
DTEND;TZID=America/New_York:20230820T163000
DTSTAMP:20260425T122418
CREATED:20220809T172945Z
LAST-MODIFIED:20230814T190336Z
UID:10000492-1692540000-1692549000@www.bahailv.org
SUMMARY:Feast of Asma (Names) Host Pam Ptak.  Click here for details.
DESCRIPTION:Host Pam Ptak.  \nDear Friends\, \nPam Ptak warmly invites you to the Feast of Asma (Names) at her home on Sunday August 20 at 2pm. Her address was emailed to the friends directly.\nPlease park in the driveway and the cul -de-sac. PLEASE NOTE START TIME IS 2 PM.\nHer phone numbers are 610 346-6071 (landline)\n610-984-2310 (cell phone)\n\nZoom will be available if you cannot attend in person. Zoom Link emailed to the friends directly\n\n\nWarm regards\,\nRoseann Bowerman
URL:https://www.bahailv.org/event/feast-of-asma-names-host-tbd-click-here-for-details-2/
ATTACH;FMTTYPE=image/jpeg:https://www.bahailv.org/wp-content/uploads/2021/08/Feast.jpg
END:VEVENT
END:VCALENDAR