BEGIN:VCALENDAR
VERSION:2.0
PRODID:-//Lehigh Valley Bahai - ECPv6.15.20//NONSGML v1.0//EN
CALSCALE:GREGORIAN
METHOD:PUBLISH
X-ORIGINAL-URL:https://www.bahailv.org
X-WR-CALDESC:Events for Lehigh Valley Bahai
REFRESH-INTERVAL;VALUE=DURATION:PT1H
X-Robots-Tag:noindex
X-PUBLISHED-TTL:PT1H
BEGIN:VTIMEZONE
TZID:America/New_York
BEGIN:DAYLIGHT
TZOFFSETFROM:-0500
TZOFFSETTO:-0400
TZNAME:EDT
DTSTART:20220313T070000
END:DAYLIGHT
BEGIN:STANDARD
TZOFFSETFROM:-0400
TZOFFSETTO:-0500
TZNAME:EST
DTSTART:20221106T060000
END:STANDARD
BEGIN:DAYLIGHT
TZOFFSETFROM:-0500
TZOFFSETTO:-0400
TZNAME:EDT
DTSTART:20230312T070000
END:DAYLIGHT
BEGIN:STANDARD
TZOFFSETFROM:-0400
TZOFFSETTO:-0500
TZNAME:EST
DTSTART:20231105T060000
END:STANDARD
BEGIN:DAYLIGHT
TZOFFSETFROM:-0500
TZOFFSETTO:-0400
TZNAME:EDT
DTSTART:20240310T070000
END:DAYLIGHT
BEGIN:STANDARD
TZOFFSETFROM:-0400
TZOFFSETTO:-0500
TZNAME:EST
DTSTART:20241103T060000
END:STANDARD
END:VTIMEZONE
BEGIN:VEVENT
DTSTART;TZID=America/New_York:20230716T080000
DTEND;TZID=America/New_York:20230716T170000
DTSTAMP:20260425T134341
CREATED:20230504T043746Z
LAST-MODIFIED:20230508T140716Z
UID:10001295-1689494400-1689526800@www.bahailv.org
SUMMARY:Weekend camp for young adults (ages 15 to 25)\, July 14\, 15 & 16\, at Little Pond Arts Retreat between Bath and Nazareth\, PA.  Click here for details.
DESCRIPTION:As you may well know\, the local Baha’i community has taken on a special and exciting challenge:  We are organizing a weekend camp for young adults (ages 15 to 25)\, July 14\, 15 & 16\, at Little Pond Arts Retreat between Bath and Nazareth\, and we need\, more than anything else — Young Adults to attend!  This is a challenge for us as we do not have many youth within our circle.  The weekend includes completing study of the Ruhi Institute Book 1 – Reflections on the Life of the Spirit. We need at least ten youth–not junior youth. They do not need to be Baha’is or even know anything about the Baha’i Faith. (In fact they probably will not be Baha’is.) This is a challenge\, and we’re taking it head on; let us rise to it\, as this will help us grow\, advance the Cause at our weakest point; but we can only accomplish it if we all work together to raise up attendees. Our unified effort will be unquestionably blessed by Baha’u’llah; of that there is no doubt. Think of youth that you know\, youth that a friend knows\, youth that you don’t know well but might be interested! Anyone that comes to mind as possibly interested–find a way to diplomatically ask them and pass along the information. We need to take the time to really think and then act\, reach out! \nIn order to assist you in this work\, we enclose a PDF invitation/announcement of the weekend with all the pertinent information (please read thoroughly so you can familiarize yourself with the event and can speak off the cuff and knowingly about it).  Also\, when you email it to your contacts\, you can include this web link (https://littlepond.org/reflections-on-the-life-of-the-spirit/) which will take them to a page on the Little Pond site where even more information can be found. \n 
URL:https://www.bahailv.org/event/weekend-camp-for-young-adults-ages-15-to-25-july-14-15-16-at-little-pond-arts-retreat-between-bath-and-nazareth/2023-07-16/
ATTACH;FMTTYPE=application/pdf:https://www.bahailv.org/wp-content/uploads/2023/05/Reflections-Final.pdf
END:VEVENT
BEGIN:VEVENT
DTSTART;TZID=America/New_York:20230716T193000
DTEND;TZID=America/New_York:20230716T193000
DTSTAMP:20260425T134341
CREATED:20230625T020626Z
LAST-MODIFIED:20230625T020828Z
UID:10001307-1689535800-1689535800@www.bahailv.org
SUMMARY:Sunday night Zoom Healing Devotions hosted by Moira & Randy Padfield. Click here for details.
DESCRIPTION:Dear friends\,  \nThe Padfield family are hosting a devotional via Zoom Sunday evening at 7:30pm and each Sunday thereafter.  Link will be emailed to the friends directly.  We will be saying prayers for Richard Beane (our son-in-law in Belize) and Shirin’s sister as well as others in the community in need of healing prayers. We will also offer healing prayers for our community\, country and the world.   \nWe would be happy to have you join us and would welcome anything you would like to contribute in the form of prayers\, Writings\, or poems.   \nWe hope to see you on Sunday night.  Zoom link was emailed to the friends directly. \nWith loving regards\,
URL:https://www.bahailv.org/event/4523/2023-07-16/
ATTACH;FMTTYPE=image/jpeg:https://www.bahailv.org/wp-content/uploads/2020/05/devotions.jpg
END:VEVENT
END:VCALENDAR