BEGIN:VCALENDAR
VERSION:2.0
PRODID:-//Lehigh Valley Bahai - ECPv6.15.20//NONSGML v1.0//EN
CALSCALE:GREGORIAN
METHOD:PUBLISH
X-ORIGINAL-URL:https://www.bahailv.org
X-WR-CALDESC:Events for Lehigh Valley Bahai
REFRESH-INTERVAL;VALUE=DURATION:PT1H
X-Robots-Tag:noindex
X-PUBLISHED-TTL:PT1H
BEGIN:VTIMEZONE
TZID:America/New_York
BEGIN:DAYLIGHT
TZOFFSETFROM:-0500
TZOFFSETTO:-0400
TZNAME:EDT
DTSTART:20220313T070000
END:DAYLIGHT
BEGIN:STANDARD
TZOFFSETFROM:-0400
TZOFFSETTO:-0500
TZNAME:EST
DTSTART:20221106T060000
END:STANDARD
BEGIN:DAYLIGHT
TZOFFSETFROM:-0500
TZOFFSETTO:-0400
TZNAME:EDT
DTSTART:20230312T070000
END:DAYLIGHT
BEGIN:STANDARD
TZOFFSETFROM:-0400
TZOFFSETTO:-0500
TZNAME:EST
DTSTART:20231105T060000
END:STANDARD
BEGIN:DAYLIGHT
TZOFFSETFROM:-0500
TZOFFSETTO:-0400
TZNAME:EDT
DTSTART:20240310T070000
END:DAYLIGHT
BEGIN:STANDARD
TZOFFSETFROM:-0400
TZOFFSETTO:-0500
TZNAME:EST
DTSTART:20241103T060000
END:STANDARD
END:VTIMEZONE
BEGIN:VEVENT
DTSTART;TZID=America/New_York:20230712T190000
DTEND;TZID=America/New_York:20230712T213000
DTSTAMP:20260425T134340
CREATED:20220809T172431Z
LAST-MODIFIED:20230706T185423Z
UID:10000490-1689188400-1689197400@www.bahailv.org
SUMMARY:Feast of Kalimat (Words) - Hosted by Kim Poley.  Click here for details.
DESCRIPTION:Hosted by Kim Poley. \nDear friends\,\n\nKim Poley warmly invites you to the Feast of Kalimat on Wednesday. July 12 at 7pm.\nHer address is: 20 Heyser Rd. Barto\, PA  19504.\nPlease RSVP to her at: kimberleypoley@gmail.com if you plan to attend. Her phone number if you have questions is 215 680-8541.\nThis is an in-person Feast\, no Zoom link is available.\nSincerely\,\nRoseann Bowerman\nOn behalf of the LSA of Bethlehem Township 
URL:https://www.bahailv.org/event/feast-of-kalimat-words-host-tbd-click-here-for-details-2/
ATTACH;FMTTYPE=image/jpeg:https://www.bahailv.org/wp-content/uploads/2021/08/Feast.jpg
END:VEVENT
END:VCALENDAR