BEGIN:VCALENDAR
VERSION:2.0
PRODID:-//Lehigh Valley Bahai - ECPv6.15.20//NONSGML v1.0//EN
CALSCALE:GREGORIAN
METHOD:PUBLISH
X-ORIGINAL-URL:https://www.bahailv.org
X-WR-CALDESC:Events for Lehigh Valley Bahai
REFRESH-INTERVAL;VALUE=DURATION:PT1H
X-Robots-Tag:noindex
X-PUBLISHED-TTL:PT1H
BEGIN:VTIMEZONE
TZID:America/New_York
BEGIN:DAYLIGHT
TZOFFSETFROM:-0500
TZOFFSETTO:-0400
TZNAME:EDT
DTSTART:20220313T070000
END:DAYLIGHT
BEGIN:STANDARD
TZOFFSETFROM:-0400
TZOFFSETTO:-0500
TZNAME:EST
DTSTART:20221106T060000
END:STANDARD
BEGIN:DAYLIGHT
TZOFFSETFROM:-0500
TZOFFSETTO:-0400
TZNAME:EDT
DTSTART:20230312T070000
END:DAYLIGHT
BEGIN:STANDARD
TZOFFSETFROM:-0400
TZOFFSETTO:-0500
TZNAME:EST
DTSTART:20231105T060000
END:STANDARD
BEGIN:DAYLIGHT
TZOFFSETFROM:-0500
TZOFFSETTO:-0400
TZNAME:EDT
DTSTART:20240310T070000
END:DAYLIGHT
BEGIN:STANDARD
TZOFFSETFROM:-0400
TZOFFSETTO:-0500
TZNAME:EST
DTSTART:20241103T060000
END:STANDARD
END:VTIMEZONE
BEGIN:VEVENT
DTSTART;TZID=America/New_York:20230624T120000
DTEND;TZID=America/New_York:20230624T170000
DTSTAMP:20260425T150215
CREATED:20230517T173324Z
LAST-MODIFIED:20230517T173325Z
UID:10001300-1687608000-1687626000@www.bahailv.org
SUMMARY:111th Souvenir Unity Feast - Saturday\, June 24th\, 2023
DESCRIPTION:You are warmly invited to join us for the 111th annual Souvenir Unity Feast of ‘Abdu’l-Baha on Saturday\, June 24th\, 2023 at the historic Wilhelm Baha’i Properties in Teaneck\, New Jersey.  As always\, it will be a day of joy and fellowship!\n\nAttached is a flyer and you can visit http://www.WilhelmProperties.org for more information about the history of the property and the event.\n\nThis year’s keynote speaker will be Kathryn Jewett Hogenson\, co-author of the new book Servant to the Servants\, which is about Hand of the Cause Roy Wilhelm and which was co-authored by North Jersey Baha’i\, Joel Nizin. This brand new book will be available to purchase at our event’s bookstore. We are also excited to feature the Teaneck Community Chorus in our program which starts at 3pm.\n\nFood will be available for purchase or you can bring your own lunch for the day. Donations to help with the cost of the event are greatly appreciated and can be made out to “The Local Spiritual Assembly of the Baha’is of Teaneck”\n\n\n\nFeel free to share this invite with friends far and wide – all are welcome!\n\nWarm regards\,\n\nThe Local Spiritual Assembly of the Baha’is of Teaneck\n\n126 Evergreen Place\, Teaneck\, NJ
URL:https://www.bahailv.org/event/111th-souvenir-unity-feast-saturday-june-24th-2023/
END:VEVENT
BEGIN:VEVENT
DTSTART;TZID=America/New_York:20230624T180000
DTEND;TZID=America/New_York:20230624T203000
DTSTAMP:20260425T150215
CREATED:20220809T172207Z
LAST-MODIFIED:20230617T001359Z
UID:10000489-1687629600-1687638600@www.bahailv.org
SUMMARY:Feast of Rahmat (Mercy) to be hosted by Houman Ahdieh.  Click here for details.
DESCRIPTION:Host – Houman Ahdieh \n  \nDear Friends\, \n\nHouman Ahdieh warmly invites you to the Feast of Rahmat (Mercy) on Saturday June 24 at 6pm. \n \nDinner will be served at 6pm with the Feast program to follow. \n \nIt will be held at the Baha’i Learning Center.  Details for Feast was emailed directly to the friends. \n\nThis is an in-person feast. Please RSVP to Houman that you will attend so meal accommodations can be arranged: houmanahdieh@yahoo.com  \n\nWarm regards\, \n\nRoseann Bowerman for the LSA of Bethlehem Township
URL:https://www.bahailv.org/event/feast-of-rahmat-mercy-to-be-hosted-by-gladys-nay-click-here-for-details/
ATTACH;FMTTYPE=image/jpeg:https://www.bahailv.org/wp-content/uploads/2021/08/Feast.jpg
END:VEVENT
END:VCALENDAR