BEGIN:VCALENDAR
VERSION:2.0
PRODID:-//Lehigh Valley Bahai - ECPv6.15.20//NONSGML v1.0//EN
CALSCALE:GREGORIAN
METHOD:PUBLISH
X-ORIGINAL-URL:https://www.bahailv.org
X-WR-CALDESC:Events for Lehigh Valley Bahai
REFRESH-INTERVAL;VALUE=DURATION:PT1H
X-Robots-Tag:noindex
X-PUBLISHED-TTL:PT1H
BEGIN:VTIMEZONE
TZID:America/New_York
BEGIN:DAYLIGHT
TZOFFSETFROM:-0500
TZOFFSETTO:-0400
TZNAME:EDT
DTSTART:20220313T070000
END:DAYLIGHT
BEGIN:STANDARD
TZOFFSETFROM:-0400
TZOFFSETTO:-0500
TZNAME:EST
DTSTART:20221106T060000
END:STANDARD
BEGIN:DAYLIGHT
TZOFFSETFROM:-0500
TZOFFSETTO:-0400
TZNAME:EDT
DTSTART:20230312T070000
END:DAYLIGHT
BEGIN:STANDARD
TZOFFSETFROM:-0400
TZOFFSETTO:-0500
TZNAME:EST
DTSTART:20231105T060000
END:STANDARD
BEGIN:DAYLIGHT
TZOFFSETFROM:-0500
TZOFFSETTO:-0400
TZNAME:EDT
DTSTART:20240310T070000
END:DAYLIGHT
BEGIN:STANDARD
TZOFFSETFROM:-0400
TZOFFSETTO:-0500
TZNAME:EST
DTSTART:20241103T060000
END:STANDARD
END:VTIMEZONE
BEGIN:VEVENT
DTSTART;TZID=America/New_York:20230526T190000
DTEND;TZID=America/New_York:20230526T200000
DTSTAMP:20260425T162622
CREATED:20230415T153722Z
LAST-MODIFIED:20230511T220108Z
UID:10001262-1685127600-1685131200@www.bahailv.org
SUMMARY:Please join our Bi-weekly Friday night devotional in-person or via Zoom. Click here for details.
DESCRIPTION:Dear Friends\,\n \nPlease join our Bi-weekly Friday night devotional/Study Circle in-person or via Zoom.\n\n\n\n\nTopic: varies each time7:00 PM Eastern Time (US and Canada).\n\nZoom link was directly emailed to friends\, however for direct zoom link to the devotions contact Shirin Khalighi: khalighi1@aol.com OR Gladys Nay: gladandlou@msn.com 
URL:https://www.bahailv.org/event/bi-weekly-friday-night-devotions-ruhi-1-facilitated-by-khalighis-gladys-nay-click-here-for-details-2-2-2/2023-05-26/
ATTACH;FMTTYPE=image/jpeg:https://www.bahailv.org/wp-content/uploads/2021/09/Devotions-3.jpeg
END:VEVENT
BEGIN:VEVENT
DTSTART;TZID=America/New_York:20230526T190000
DTEND;TZID=America/New_York:20230526T201500
DTSTAMP:20260425T162622
CREATED:20230511T215900Z
LAST-MODIFIED:20230511T215949Z
UID:10001296-1685127600-1685132100@www.bahailv.org
SUMMARY:An evening of fun hosted by the Regional Baha’i Council on Friday\, May 26 at 7:00 pm via Zoom. Click here for details.
DESCRIPTION:Dear Friends\, \nYou are most warmly invited to an evening of fun hosted by the Regional Baha’i Council on Friday\, May 26 at 7:00 pm via Zoom.  Please see the attached invitation to see more details and the Zoom link. \nWith loving regards\, \nRegional Baha’i Council of the Northeastern States \nMarie McNair\, Secretary
URL:https://www.bahailv.org/event/an-evening-of-fun-hosted-by-the-regional-bahai-council-on-friday-may-26-at-700-pm-via-zoom/
ATTACH;FMTTYPE=application/pdf:https://www.bahailv.org/wp-content/uploads/2023/05/Flyer-for-God-Loves-Laughter-rev-5-10-23.pdf
END:VEVENT
END:VCALENDAR