BEGIN:VCALENDAR
VERSION:2.0
PRODID:-//Lehigh Valley Bahai - ECPv6.15.20//NONSGML v1.0//EN
CALSCALE:GREGORIAN
METHOD:PUBLISH
X-WR-CALNAME:Lehigh Valley Bahai
X-ORIGINAL-URL:https://www.bahailv.org
X-WR-CALDESC:Events for Lehigh Valley Bahai
REFRESH-INTERVAL;VALUE=DURATION:PT1H
X-Robots-Tag:noindex
X-PUBLISHED-TTL:PT1H
BEGIN:VTIMEZONE
TZID:America/New_York
BEGIN:DAYLIGHT
TZOFFSETFROM:-0500
TZOFFSETTO:-0400
TZNAME:EDT
DTSTART:20220313T070000
END:DAYLIGHT
BEGIN:STANDARD
TZOFFSETFROM:-0400
TZOFFSETTO:-0500
TZNAME:EST
DTSTART:20221106T060000
END:STANDARD
BEGIN:DAYLIGHT
TZOFFSETFROM:-0500
TZOFFSETTO:-0400
TZNAME:EDT
DTSTART:20230312T070000
END:DAYLIGHT
BEGIN:STANDARD
TZOFFSETFROM:-0400
TZOFFSETTO:-0500
TZNAME:EST
DTSTART:20231105T060000
END:STANDARD
BEGIN:DAYLIGHT
TZOFFSETFROM:-0500
TZOFFSETTO:-0400
TZNAME:EDT
DTSTART:20240310T070000
END:DAYLIGHT
BEGIN:STANDARD
TZOFFSETFROM:-0400
TZOFFSETTO:-0500
TZNAME:EST
DTSTART:20241103T060000
END:STANDARD
END:VTIMEZONE
BEGIN:VEVENT
DTSTART;TZID=America/New_York:20230523T190000
DTEND;TZID=America/New_York:20230523T213000
DTSTAMP:20260425T163432
CREATED:20221011T012055Z
LAST-MODIFIED:20230515T185759Z
UID:10000971-1684868400-1684877400@www.bahailv.org
SUMMARY:Observance of the Declaration of the Bab.  Hosted by Laura & Henry Lawrence.  Click here for details.
DESCRIPTION:You are most warmly invited to a Holy Celebration \nThe Declaration of the Bab \nTuesday\, May 23rd 7:00 \nHome of the Lawrences –  610-573-0559 \nLight supper and other vittles – breaking bread together! \n  \n I am\, I am\, I am the Promised One!  I am the One Whose name you have for a thousand years invoked\, at Whose mention you have risen\, Whose advent you have longed to witness\, and the hour of Whose Revelation you have prayed God to hasten.”          – The Bab
URL:https://www.bahailv.org/event/declaration-of-the-bab-host-tbd-click-here-for-details/
ATTACH;FMTTYPE=image/jpeg:https://www.bahailv.org/wp-content/uploads/2020/05/shrine.jpg
END:VEVENT
END:VCALENDAR