BEGIN:VCALENDAR
VERSION:2.0
PRODID:-//Lehigh Valley Bahai - ECPv6.15.20//NONSGML v1.0//EN
CALSCALE:GREGORIAN
METHOD:PUBLISH
X-WR-CALNAME:Lehigh Valley Bahai
X-ORIGINAL-URL:https://www.bahailv.org
X-WR-CALDESC:Events for Lehigh Valley Bahai
REFRESH-INTERVAL;VALUE=DURATION:PT1H
X-Robots-Tag:noindex
X-PUBLISHED-TTL:PT1H
BEGIN:VTIMEZONE
TZID:America/New_York
BEGIN:DAYLIGHT
TZOFFSETFROM:-0500
TZOFFSETTO:-0400
TZNAME:EDT
DTSTART:20220313T070000
END:DAYLIGHT
BEGIN:STANDARD
TZOFFSETFROM:-0400
TZOFFSETTO:-0500
TZNAME:EST
DTSTART:20221106T060000
END:STANDARD
BEGIN:DAYLIGHT
TZOFFSETFROM:-0500
TZOFFSETTO:-0400
TZNAME:EDT
DTSTART:20230312T070000
END:DAYLIGHT
BEGIN:STANDARD
TZOFFSETFROM:-0400
TZOFFSETTO:-0500
TZNAME:EST
DTSTART:20231105T060000
END:STANDARD
BEGIN:DAYLIGHT
TZOFFSETFROM:-0500
TZOFFSETTO:-0400
TZNAME:EDT
DTSTART:20240310T070000
END:DAYLIGHT
BEGIN:STANDARD
TZOFFSETFROM:-0400
TZOFFSETTO:-0500
TZNAME:EST
DTSTART:20241103T060000
END:STANDARD
END:VTIMEZONE
BEGIN:VEVENT
DTSTART;TZID=America/New_York:20230507T110000
DTEND;TZID=America/New_York:20230507T130000
DTSTAMP:20260425T163433
CREATED:20230423T174335Z
LAST-MODIFIED:20230424T012521Z
UID:10001281-1683457200-1683464400@www.bahailv.org
SUMMARY:Allentown/Reading Cluster Reflection Gathering at the B'nai B'rith House 11th floor party room\, 1616 Liberty Street Allentown. - Sunday\, 7 May\, 11 a.m.  Click here for details.
DESCRIPTION:Dearest Friends\,\n\nYou are warmly invited to our next Cluster Reflection Gathering to take place on Sunday May 7th at 11AM. This will be an in-person gathering as well as on zoom\, at the B’nai B’rith House 11th floor party room\, 1616 Liberty Street Allentown. As always\, it will be a time for fellowship\, devotion and consultation where we can reflect and learn from each other on the activities that are currently ongoing around our communities.  \nWe are also very excited to announce the showing of recently released 90 minute feature film “Abdu’l-Bahá in Paris” immediately following the reflection gathering along with a light lunch for the friends attending in-person! \nWe very much hope to see each one of you soon! \nWith Much Love and Appreciation\, \nHouman Ahdieh \nOn Behalf of \nThe Area Teaching Committee
URL:https://www.bahailv.org/event/allentown-reading-cluster-reflection-gathering-details-coming-soon-click-here-for-details/
ATTACH;FMTTYPE=image/jpeg:https://www.bahailv.org/wp-content/uploads/2021/06/Cluster-Reflection-meeting..jpg
END:VEVENT
BEGIN:VEVENT
DTSTART;TZID=America/New_York:20230507T193000
DTEND;TZID=America/New_York:20230507T203000
DTSTAMP:20260425T163433
CREATED:20230424T015317Z
LAST-MODIFIED:20230424T015449Z
UID:10001286-1683487800-1683491400@www.bahailv.org
SUMMARY:Sunday night Zoom Healing Devotions hosted by Moira & Randy Padfield.  Click here for details.
DESCRIPTION:Dear friends\,  \nThe Padfield family are hosting a devotional via Zoom Sunday evening at 7:30pm and each Sunday thereafter.  Link will be emailed to the friends directly.  We will be saying prayers for Richard Beane (our son-in-law in Belize) and Shirin’s sister as well as others in the community in need of healing prayers. We will also offer healing prayers for our community\, country and the world.   \nWe would be happy to have you join us and would welcome anything you would like to contribute in the form of prayers\, Writings\, or poems.   \nWe hope to see you on Sunday night.  Zoom link was emailed to the friends directly. \nWith loving regards\,
URL:https://www.bahailv.org/event/sunday-night-zoom-healing-devotions-hosted-by-moira-randy-padfield-click-here-for-details-9/2023-05-07/
ATTACH;FMTTYPE=image/jpeg:https://www.bahailv.org/wp-content/uploads/2020/05/devotions.jpg
END:VEVENT
END:VCALENDAR