BEGIN:VCALENDAR
VERSION:2.0
PRODID:-//Lehigh Valley Bahai - ECPv6.15.20//NONSGML v1.0//EN
CALSCALE:GREGORIAN
METHOD:PUBLISH
X-ORIGINAL-URL:https://www.bahailv.org
X-WR-CALDESC:Events for Lehigh Valley Bahai
REFRESH-INTERVAL;VALUE=DURATION:PT1H
X-Robots-Tag:noindex
X-PUBLISHED-TTL:PT1H
BEGIN:VTIMEZONE
TZID:America/New_York
BEGIN:DAYLIGHT
TZOFFSETFROM:-0500
TZOFFSETTO:-0400
TZNAME:EDT
DTSTART:20220313T070000
END:DAYLIGHT
BEGIN:STANDARD
TZOFFSETFROM:-0400
TZOFFSETTO:-0500
TZNAME:EST
DTSTART:20221106T060000
END:STANDARD
BEGIN:DAYLIGHT
TZOFFSETFROM:-0500
TZOFFSETTO:-0400
TZNAME:EDT
DTSTART:20230312T070000
END:DAYLIGHT
BEGIN:STANDARD
TZOFFSETFROM:-0400
TZOFFSETTO:-0500
TZNAME:EST
DTSTART:20231105T060000
END:STANDARD
BEGIN:DAYLIGHT
TZOFFSETFROM:-0500
TZOFFSETTO:-0400
TZNAME:EDT
DTSTART:20240310T070000
END:DAYLIGHT
BEGIN:STANDARD
TZOFFSETFROM:-0400
TZOFFSETTO:-0500
TZNAME:EST
DTSTART:20241103T060000
END:STANDARD
END:VTIMEZONE
BEGIN:VEVENT
DTSTART;TZID=America/New_York:20230428T193000
DTEND;TZID=America/New_York:20230428T213000
DTSTAMP:20260425T175718
CREATED:20220809T170828Z
LAST-MODIFIED:20230423T173423Z
UID:10000486-1682710200-1682717400@www.bahailv.org
SUMMARY:Feast of Jamal (Beauty) - Hosted by Bill & Bridget George.  Click here for details.
DESCRIPTION:Host – The George family.   \n  \nDear Friends\,  \nBill and Bridget George warmly invite you to the Feast of Jamal (Beauty)  \nFriday\, April 28  beginning at 7:30 pm in person and on Zoom. \nFor those who cannot attend in person the link to join on Zoom was emailed to the friends. \nTheir contact number is: 610.570.1336 \nThe email address is:  Bridgetgeorge9@gmail.com \nWarmest regards\,  Moira Padfield for the LSA of Bethlehem Township
URL:https://www.bahailv.org/event/feast-of-jamal-beauty-host-tbd-click-here-for-details-2/
ATTACH;FMTTYPE=image/jpeg:https://www.bahailv.org/wp-content/uploads/2021/08/Feast.jpg
END:VEVENT
END:VCALENDAR