BEGIN:VCALENDAR
VERSION:2.0
PRODID:-//Lehigh Valley Bahai - ECPv6.15.20//NONSGML v1.0//EN
CALSCALE:GREGORIAN
METHOD:PUBLISH
X-WR-CALNAME:Lehigh Valley Bahai
X-ORIGINAL-URL:https://www.bahailv.org
X-WR-CALDESC:Events for Lehigh Valley Bahai
REFRESH-INTERVAL;VALUE=DURATION:PT1H
X-Robots-Tag:noindex
X-PUBLISHED-TTL:PT1H
BEGIN:VTIMEZONE
TZID:America/New_York
BEGIN:DAYLIGHT
TZOFFSETFROM:-0500
TZOFFSETTO:-0400
TZNAME:EDT
DTSTART:20220313T070000
END:DAYLIGHT
BEGIN:STANDARD
TZOFFSETFROM:-0400
TZOFFSETTO:-0500
TZNAME:EST
DTSTART:20221106T060000
END:STANDARD
BEGIN:DAYLIGHT
TZOFFSETFROM:-0500
TZOFFSETTO:-0400
TZNAME:EDT
DTSTART:20230312T070000
END:DAYLIGHT
BEGIN:STANDARD
TZOFFSETFROM:-0400
TZOFFSETTO:-0500
TZNAME:EST
DTSTART:20231105T060000
END:STANDARD
BEGIN:DAYLIGHT
TZOFFSETFROM:-0500
TZOFFSETTO:-0400
TZNAME:EDT
DTSTART:20240310T070000
END:DAYLIGHT
BEGIN:STANDARD
TZOFFSETFROM:-0400
TZOFFSETTO:-0500
TZNAME:EST
DTSTART:20241103T060000
END:STANDARD
END:VTIMEZONE
BEGIN:VEVENT
DTSTART;TZID=America/New_York:20230416T100000
DTEND;TZID=America/New_York:20230416T120000
DTSTAMP:20260425T175702
CREATED:20221010T153726Z
LAST-MODIFIED:20221109T005533Z
UID:10000558-1681639200-1681646400@www.bahailv.org
SUMMARY:In person Baha’i Learning Center 10am-12noon at  Lehigh Valley Center for Sight\,  Allentown\, PA  18104.
DESCRIPTION:Dear friends please join us for the start of the Baha’i Learning Center in person. \nBaha’i Learning Center 10am-12noon.  Location: In person at Houman Ahdieh’s office\, Lehigh Valley Center for Sight\, 1739 West Fairmont Street\, Allentown\, PA  18104. \n\n\nWe look forward to seeing you\,  Moira Padfield for the LSA of Bethlehem Township.
URL:https://www.bahailv.org/event/in-person-bahai-learning-center-10am-12noon-at-lehigh-valley-center-for-sight-allentown-pa-18104-7/
ATTACH;FMTTYPE=image/jpeg:https://www.bahailv.org/wp-content/uploads/2021/03/Childrens-classes.jpeg
END:VEVENT
BEGIN:VEVENT
DTSTART;TZID=America/New_York:20230416T193000
DTEND;TZID=America/New_York:20230416T203000
DTSTAMP:20260425T175702
CREATED:20230319T235943Z
LAST-MODIFIED:20230319T235943Z
UID:10001256-1681673400-1681677000@www.bahailv.org
SUMMARY:Sunday night Zoom Healing Devotions hosted by Moira & Randy Padfield.  Click here for details.
DESCRIPTION:Dear friends\,  \nThe Padfield family are hosting a devotional via Zoom Sunday evening at 7:30pm and each Sunday thereafter.  Link will be emailed to the friends directly.  We will be saying prayers for Richard Beane (our son-in-law in Belize) and Shirin’s sister as well as others in the community in need of healing prayers. We will also offer healing prayers for our community\, country and the world.   \nWe would be happy to have you join us and would welcome anything you would like to contribute in the form of prayers\, Writings\, or poems.   \nWe hope to see you on Sunday night.  Zoom link was emailed to the friends directly. \nWith loving regards\,
URL:https://www.bahailv.org/event/sunday-night-zoom-healing-devotions-hosted-by-moira-randy-padfield-click-here-for-details-6/
ATTACH;FMTTYPE=image/jpeg:https://www.bahailv.org/wp-content/uploads/2020/05/devotions.jpg
END:VEVENT
END:VCALENDAR