BEGIN:VCALENDAR
VERSION:2.0
PRODID:-//Lehigh Valley Bahai - ECPv6.15.20//NONSGML v1.0//EN
CALSCALE:GREGORIAN
METHOD:PUBLISH
X-WR-CALNAME:Lehigh Valley Bahai
X-ORIGINAL-URL:https://www.bahailv.org
X-WR-CALDESC:Events for Lehigh Valley Bahai
REFRESH-INTERVAL;VALUE=DURATION:PT1H
X-Robots-Tag:noindex
X-PUBLISHED-TTL:PT1H
BEGIN:VTIMEZONE
TZID:America/New_York
BEGIN:DAYLIGHT
TZOFFSETFROM:-0500
TZOFFSETTO:-0400
TZNAME:EDT
DTSTART:20220313T070000
END:DAYLIGHT
BEGIN:STANDARD
TZOFFSETFROM:-0400
TZOFFSETTO:-0500
TZNAME:EST
DTSTART:20221106T060000
END:STANDARD
BEGIN:DAYLIGHT
TZOFFSETFROM:-0500
TZOFFSETTO:-0400
TZNAME:EDT
DTSTART:20230312T070000
END:DAYLIGHT
BEGIN:STANDARD
TZOFFSETFROM:-0400
TZOFFSETTO:-0500
TZNAME:EST
DTSTART:20231105T060000
END:STANDARD
BEGIN:DAYLIGHT
TZOFFSETFROM:-0500
TZOFFSETTO:-0400
TZNAME:EDT
DTSTART:20240310T070000
END:DAYLIGHT
BEGIN:STANDARD
TZOFFSETFROM:-0400
TZOFFSETTO:-0500
TZNAME:EST
DTSTART:20241103T060000
END:STANDARD
END:VTIMEZONE
BEGIN:VEVENT
DTSTART;TZID=America/New_York:20230321T191500
DTEND;TZID=America/New_York:20230321T213000
DTSTAMP:20260425T192255
CREATED:20220809T170214Z
LAST-MODIFIED:20230320T021332Z
UID:10000484-1679426100-1679434200@www.bahailv.org
SUMMARY:Feast of Baha (Splendor) - Hosted by Tammy Kita. Click here for details.
DESCRIPTION:Dear Friends\,  \nTammy Kita warmly invites you to the Feast of Baha (Splendor)  \nTuesday\, March 21  beginning at 7:15 pm in person and on Zoom. \nFor those who cannot attend in person the link was emailed directly to the friends.  \nTammy’s contact number is 484.788.9128 \nWarmest regards\,  Moira Padfield for the LSA of Bethlehem Township
URL:https://www.bahailv.org/event/feast-of-baha-splendor-host-tbd/
ATTACH;FMTTYPE=image/jpeg:https://www.bahailv.org/wp-content/uploads/2021/08/Feast.jpg
END:VEVENT
END:VCALENDAR