BEGIN:VCALENDAR
VERSION:2.0
PRODID:-//Lehigh Valley Bahai - ECPv6.15.20//NONSGML v1.0//EN
CALSCALE:GREGORIAN
METHOD:PUBLISH
X-WR-CALNAME:Lehigh Valley Bahai
X-ORIGINAL-URL:https://www.bahailv.org
X-WR-CALDESC:Events for Lehigh Valley Bahai
REFRESH-INTERVAL;VALUE=DURATION:PT1H
X-Robots-Tag:noindex
X-PUBLISHED-TTL:PT1H
BEGIN:VTIMEZONE
TZID:America/New_York
BEGIN:DAYLIGHT
TZOFFSETFROM:-0500
TZOFFSETTO:-0400
TZNAME:EDT
DTSTART:20220313T070000
END:DAYLIGHT
BEGIN:STANDARD
TZOFFSETFROM:-0400
TZOFFSETTO:-0500
TZNAME:EST
DTSTART:20221106T060000
END:STANDARD
BEGIN:DAYLIGHT
TZOFFSETFROM:-0500
TZOFFSETTO:-0400
TZNAME:EDT
DTSTART:20230312T070000
END:DAYLIGHT
BEGIN:STANDARD
TZOFFSETFROM:-0400
TZOFFSETTO:-0500
TZNAME:EST
DTSTART:20231105T060000
END:STANDARD
BEGIN:DAYLIGHT
TZOFFSETFROM:-0500
TZOFFSETTO:-0400
TZNAME:EDT
DTSTART:20240310T070000
END:DAYLIGHT
BEGIN:STANDARD
TZOFFSETFROM:-0400
TZOFFSETTO:-0500
TZNAME:EST
DTSTART:20241103T060000
END:STANDARD
END:VTIMEZONE
BEGIN:VEVENT
DTSTART;TZID=America/New_York:20230320T070600
DTEND;TZID=America/New_York:20230320T191400
DTSTAMP:20260425T192235
CREATED:20221011T002327Z
LAST-MODIFIED:20221011T002328Z
UID:10000959-1679295960-1679339640@www.bahailv.org
SUMMARY:Baha'i Fast.  Click here for details.
DESCRIPTION:Baha’i Fast begins March 2 – March 20\, 2023. \n  \nSunrise\, Sunset Times March 2023\n\n\n\nMAR.\nDAY\nSUNRISE\nSUNSET\nDAY LENGTH\n\n\n1\nWed\n06:37 am\n05:53 pm\n11h 15m\n\n\n2\nThu\n06:35 am\n05:54 pm\n11h 18m\n\n\n3\nFri\n06:34 am\n05:55 pm\n11h 21m\n\n\n4\nSat\n06:32 am\n05:56 pm\n11h 23m\n\n\n5\nSun\n06:31 am\n05:57 pm\n11h 26m\n\n\n6\nMon\n06:29 am\n05:59 pm\n11h 29m\n\n\n7\nTue\n06:28 am\n06:00 pm\n11h 32m\n\n\n8\nWed\n06:26 am\n06:01 pm\n11h 34m\n\n\n9\nThu\n06:24 am\n06:02 pm\n11h 37m\n\n\n10\nFri\n06:23 am\n06:03 pm\n11h 40m\n\n\n11\nSat\n06:21 am\n06:04 pm\n11h 42m\n\n\n12\nSun\n07:20 am\n07:05 pm\n11h 45m\n\n\n13\nMon\n07:18 am\n07:06 pm\n11h 48m\n\n\n14\nTue\n07:16 am\n07:07 pm\n11h 50m\n\n\n15\nWed\n07:15 am\n07:08 pm\n11h 53m\n\n\n16\nThu\n07:13 am\n07:09 pm\n11h 56m\n\n\n17\nFri\n07:11 am\n07:10 pm\n11h 59m\n\n\n18\nSat\n07:10 am\n07:11 pm\n12h 01m\n\n\n19\nSun\n07:08 am\n07:12 pm\n12h 04m\n\n\n20\nMon\n07:06 am\n07:14 pm\n12h 07m\n\n\n21\nTue\n07:05 am\n07:15 pm\n12h 09m
URL:https://www.bahailv.org/event/bahai-fast-click-here-for-details-6/
ATTACH;FMTTYPE=image/jpeg:https://www.bahailv.org/wp-content/uploads/2020/05/fasting.jpg
END:VEVENT
BEGIN:VEVENT
DTSTART;TZID=America/New_York:20230320T190000
DTEND;TZID=America/New_York:20230320T213000
DTSTAMP:20260425T192235
CREATED:20221011T000758Z
LAST-MODIFIED:20230309T173418Z
UID:10000957-1679338800-1679347800@www.bahailv.org
SUMMARY:Community Naw Ruz celebration to be held at Anatolian Kitchen\, BethlehemThe  -   Click here for details.
DESCRIPTION:The Community Naw Ruz celebration will be held at Anatolian Kitchen\, 3016 Linden Street\, Bethlehem.   \nCelebrate Naw Ruz (180B.E.)  \nwith the Lehigh Valley Baha’i Community!! \nAnatolian Kitchen \n3016 Linden Street \nBethlehem\, PA 18017 \nMarch 20th at 7:00 PM   \n(sunset in Bethlehem\, PA on 3/20/23 is 7:13 PM) \nKindly\, sign up on this RSVP link  so that Shirin can make reservations for us all. In order for the restaurant to get ready for us\, you must sign up by Friday\, 3/17.    \nHappy Fasting and see you SOON!!
URL:https://www.bahailv.org/event/naw-ruz-host-tbd-click-here-for-details/
ATTACH;FMTTYPE=image/png:https://www.bahailv.org/wp-content/uploads/2020/06/Naw-Ruz.png
END:VEVENT
END:VCALENDAR