BEGIN:VCALENDAR
VERSION:2.0
PRODID:-//Lehigh Valley Bahai - ECPv6.15.20//NONSGML v1.0//EN
CALSCALE:GREGORIAN
METHOD:PUBLISH
X-ORIGINAL-URL:https://www.bahailv.org
X-WR-CALDESC:Events for Lehigh Valley Bahai
REFRESH-INTERVAL;VALUE=DURATION:PT1H
X-Robots-Tag:noindex
X-PUBLISHED-TTL:PT1H
BEGIN:VTIMEZONE
TZID:America/New_York
BEGIN:DAYLIGHT
TZOFFSETFROM:-0500
TZOFFSETTO:-0400
TZNAME:EDT
DTSTART:20220313T070000
END:DAYLIGHT
BEGIN:STANDARD
TZOFFSETFROM:-0400
TZOFFSETTO:-0500
TZNAME:EST
DTSTART:20221106T060000
END:STANDARD
BEGIN:DAYLIGHT
TZOFFSETFROM:-0500
TZOFFSETTO:-0400
TZNAME:EDT
DTSTART:20230312T070000
END:DAYLIGHT
BEGIN:STANDARD
TZOFFSETFROM:-0400
TZOFFSETTO:-0500
TZNAME:EST
DTSTART:20231105T060000
END:STANDARD
BEGIN:DAYLIGHT
TZOFFSETFROM:-0500
TZOFFSETTO:-0400
TZNAME:EDT
DTSTART:20240310T070000
END:DAYLIGHT
BEGIN:STANDARD
TZOFFSETFROM:-0400
TZOFFSETTO:-0500
TZNAME:EST
DTSTART:20241103T060000
END:STANDARD
END:VTIMEZONE
BEGIN:VEVENT
DTSTART;TZID=America/New_York:20230301T190000
DTEND;TZID=America/New_York:20230301T200000
DTSTAMP:20260425T192244
CREATED:20230202T063638Z
LAST-MODIFIED:20230202T063639Z
UID:10001124-1677697200-1677700800@www.bahailv.org
SUMMARY:Weekly Wednesday Spanish Devotions hosted by the Almonte family.
DESCRIPTION:Weekly Wednesday Spanish Devotions hosted by the  Ana & Ivan Almonte .
URL:https://www.bahailv.org/event/weekly-wednesday-spanish-devotions-hosted-by-the-almonte-family/
ATTACH;FMTTYPE=image/jpeg:https://www.bahailv.org/wp-content/uploads/2021/09/devotions_sm.jpg
END:VEVENT
BEGIN:VEVENT
DTSTART;TZID=America/New_York:20230301T193000
DTEND;TZID=America/New_York:20230301T213000
DTSTAMP:20260425T192244
CREATED:20221010T184604Z
LAST-MODIFIED:20221010T184605Z
UID:10000564-1677699000-1677706200@www.bahailv.org
SUMMARY:Ayyam-i-Ha! Host TBD.  Click here for details.
DESCRIPTION:Host TBD.
URL:https://www.bahailv.org/event/ayyam-i-ha-host-tbd-click-here-for-details-3/
ATTACH;FMTTYPE=image/jpeg:https://www.bahailv.org/wp-content/uploads/2020/05/ed9556e32f8df11922e61efdc5a02f95.jpg
END:VEVENT
END:VCALENDAR