BEGIN:VCALENDAR
VERSION:2.0
PRODID:-//Lehigh Valley Bahai - ECPv6.15.20//NONSGML v1.0//EN
CALSCALE:GREGORIAN
METHOD:PUBLISH
X-WR-CALNAME:Lehigh Valley Bahai
X-ORIGINAL-URL:https://www.bahailv.org
X-WR-CALDESC:Events for Lehigh Valley Bahai
REFRESH-INTERVAL;VALUE=DURATION:PT1H
X-Robots-Tag:noindex
X-PUBLISHED-TTL:PT1H
BEGIN:VTIMEZONE
TZID:America/New_York
BEGIN:DAYLIGHT
TZOFFSETFROM:-0500
TZOFFSETTO:-0400
TZNAME:EDT
DTSTART:20220313T070000
END:DAYLIGHT
BEGIN:STANDARD
TZOFFSETFROM:-0400
TZOFFSETTO:-0500
TZNAME:EST
DTSTART:20221106T060000
END:STANDARD
BEGIN:DAYLIGHT
TZOFFSETFROM:-0500
TZOFFSETTO:-0400
TZNAME:EDT
DTSTART:20230312T070000
END:DAYLIGHT
BEGIN:STANDARD
TZOFFSETFROM:-0400
TZOFFSETTO:-0500
TZNAME:EST
DTSTART:20231105T060000
END:STANDARD
BEGIN:DAYLIGHT
TZOFFSETFROM:-0500
TZOFFSETTO:-0400
TZNAME:EDT
DTSTART:20240310T070000
END:DAYLIGHT
BEGIN:STANDARD
TZOFFSETFROM:-0400
TZOFFSETTO:-0500
TZNAME:EST
DTSTART:20241103T060000
END:STANDARD
END:VTIMEZONE
BEGIN:VEVENT
DTSTART;TZID=America/New_York:20230218T080000
DTEND;TZID=America/New_York:20230218T170000
DTSTAMP:20260425T205128
CREATED:20221116T155837Z
LAST-MODIFIED:20221116T155837Z
UID:10001000-1676707200-1676739600@www.bahailv.org
SUMMARY:Young Adult Weekend 2023\, Creston\, CA.
DESCRIPTION:Dear friends\,\nWe are forwarding this email regarding the Young Adult Weekend (ages 18-early30’s) being held February 17-20 in Creston California.  If you know anyone in that age range who would like to attend please provide them with this information. \n\n\nMany thanks\,  Moira Padfield for the LSA of Bethlehem Township \n\n\nRegistration for the seventh Young Adult Weekend\, a three-day event\, is now open.\n \nIt will be held from February 17 – 20\, 2023 at Granite Ridge Retreat Center and is sponsored by the Menlo Park LSA.\n\n\n\n“If a small number of people gather lovingly together\, with absolute purity and sanctity\, with their hearts free of the world\, experiencing the emotions of the Kingdom and the powerful magnetic forces of the Divine\, and being at one in their happy fellowship\, that gathering will exert its influence over all the earth.” – ‘Abdu’l-Bahá\n\n\nAbout Young Adult Weekend\n\n\nYoung Adult Weekend’s mission is “to strengthen bonds of fellowship through the love of Bahá’u’lláh and to empower young people to achieve material and spiritual excellence.” \nFor 6 years\, ~80-100 annual attendees from across North America and beyond have come together in joy and radiance\, developing lasting bonds of friendship and heightening their collective understanding of what it means “to live a coherent life and be an agent of spiritual and social transformation” (Universal House of Justice\, 5th December 2013). \n\n\n\n\nThe Program\n \n\nIn service of this goal\, we’re putting together a program that we’re incredibly excited about centered on three core elements: a speaker series\, interactive workshops and activities\, and fellowship in beautiful\, natural surroundings. \nWe’ve had a diverse array of Bahá’í professionals present and lead sessions over the years\, including Shane Tedjarati\, Holiday Reinhorn\, Dan Makoski\, Niki de Leon\, Rainn Wilson\, Dr. Nasrin Bashiri\, and Justin Baldoni among many others. \n  \nTo get a flavor for the spirit of the event\, please watch this short film from 2017 and this one from 2016.\n\n\n \n\nHow to Register\n\n\nComplete our registration form.\nPay our PayPal $235 (winter cabin) or $155 (dorm-style cabin).\n\nUse the “paying a friend” option\, as YAW is a not-for-profit event.\nYou can apply for a need-based scholarship.\n\n\nReceive a confirmation email (usually within a few days).\n\nThe event has generally sold out far in advance. Register soon to secure your spot!\n\n\n\nWe heard your feedback and booked a much nicer venue this year. It costs a lot more. Thankfully\, generous individuals have enabled us to heavily subsidize\, making it around the same price or even less than it was last year. If you can pay the true cost\, we welcome that ($360 winter\, $270 dorm).\n\n\n\nTime & Place\n\nFebruary 17-20\, 2023\nGranite Ridge Christian Camp\n\n\n4850 Coyote Creek Lane\nCreston\, California 93432\n\n\nScholarships & Contact Information\n\n\nFor the first time\, we now offer need-based scholarships to the event.\n \nYou can find the scholarship form link on our registration form. Inclusion matters.\n \nWe can be reached at youngadultweekend@gmail.com.\n \nWe hope to see you there!\n\n\n \n\n\nYoung Adult Weekend Core Team\nyoungadultweekend@gmail.com\n\n\n\n\n\n\n\n\n\n\n\nAttachments area\n\n\nPreview YouTube video University Weekend 2017 \n\n\n\n\n\n\n \n\n\n\n\nUniversity Weekend 2017\n\n\n\n\n\n\n\n\nPreview YouTube video University Weekend 2016 \n\n\n\n\n\n\n \n\n\n\n\nUniversity Weekend 2016
URL:https://www.bahailv.org/event/young-adult-weekend-2023-creston-ca/
END:VEVENT
END:VCALENDAR