BEGIN:VCALENDAR
VERSION:2.0
PRODID:-//Lehigh Valley Bahai - ECPv6.15.20//NONSGML v1.0//EN
CALSCALE:GREGORIAN
METHOD:PUBLISH
X-WR-CALNAME:Lehigh Valley Bahai
X-ORIGINAL-URL:https://www.bahailv.org
X-WR-CALDESC:Events for Lehigh Valley Bahai
REFRESH-INTERVAL;VALUE=DURATION:PT1H
X-Robots-Tag:noindex
X-PUBLISHED-TTL:PT1H
BEGIN:VTIMEZONE
TZID:America/New_York
BEGIN:DAYLIGHT
TZOFFSETFROM:-0500
TZOFFSETTO:-0400
TZNAME:EDT
DTSTART:20220313T070000
END:DAYLIGHT
BEGIN:STANDARD
TZOFFSETFROM:-0400
TZOFFSETTO:-0500
TZNAME:EST
DTSTART:20221106T060000
END:STANDARD
BEGIN:DAYLIGHT
TZOFFSETFROM:-0500
TZOFFSETTO:-0400
TZNAME:EDT
DTSTART:20230312T070000
END:DAYLIGHT
BEGIN:STANDARD
TZOFFSETFROM:-0400
TZOFFSETTO:-0500
TZNAME:EST
DTSTART:20231105T060000
END:STANDARD
BEGIN:DAYLIGHT
TZOFFSETFROM:-0500
TZOFFSETTO:-0400
TZNAME:EDT
DTSTART:20240310T070000
END:DAYLIGHT
BEGIN:STANDARD
TZOFFSETFROM:-0400
TZOFFSETTO:-0500
TZNAME:EST
DTSTART:20241103T060000
END:STANDARD
END:VTIMEZONE
BEGIN:VEVENT
DTSTART;TZID=America/New_York:20230212T100000
DTEND;TZID=America/New_York:20230212T110000
DTSTAMP:20260425T205126
CREATED:20230111T154108Z
LAST-MODIFIED:20230202T062816Z
UID:10001076-1676196000-1676199600@www.bahailv.org
SUMMARY:Study of the 9 Year Plan
DESCRIPTION:Dear friends\,\nPlease join us Sunday for studying of the Nine Year Plan.\n\n\n\n\nTopic: Study of the Nine Year Plan\n\nTime: Sunday January 15th 10:00 AM Eastern Time (US and Canada) \n\nJoin Zoom Meeting.  Link emailed directly to the friends.
URL:https://www.bahailv.org/event/study-of-the-9-year-plan/2023-02-12/
ATTACH;FMTTYPE=image/webp:https://www.bahailv.org/wp-content/uploads/2022/10/The-Nine-Year-Plan-2022-2031.webp
END:VEVENT
BEGIN:VEVENT
DTSTART;TZID=America/New_York:20230212T130000
DTEND;TZID=America/New_York:20230212T150000
DTSTAMP:20260425T205126
CREATED:20230123T052050Z
LAST-MODIFIED:20230123T052253Z
UID:10001117-1676206800-1676214000@www.bahailv.org
SUMMARY:Little Pond Devotional: A Crisis of Identity\, February 12\, 1 pm. @ Little Pond 92 S. Penn Dixie Rd. Nazareth\, PA 18064.
DESCRIPTION:Little Pond Devotional: A Crisis of Identity\, February 12\, 1 pm.\n\n\nLittle Pond will be holding a Devotional for one and all on February 12 at 1 pm.  The focus of the gathering will be around “A Crisis of Identity” or writings\, poetry\, and music structured around the letter from the Universal House of Justice (and referred to we Americans as something it would be well served to look into more deeply).  We will meet at 1.  There will be music — of some sort\, still working on that — then discussion\, and light refreshments.  No Zoom link is planned\, as we look for the power of people being physically together.\n\n\nPrayers\, Poetry\, Music\, Writings from the Sacred Texts — time together to share our feelings and thoughts. Light refreshments following. Please join us.\n“The way people think about who they are and how they see their place in the world determine how they relate to others and what they regard as their individual and collective purpose. The crisis of identity is directly related to the spread of prejudice. Today\, prejudices of all sorts are surging around the world\, infecting the consciousness of millions and despoiling them of their energies. They are polarizing societies at a time when unity is most vital to resolving local\, national\, and global challenges that seem intractable.”\n\n\n—\n\n\n\n\n\n\n\nWilliam George\nArtistic Director\nKingfisher Theatre\nLittle Pond\n\n\n92 S. Penn Dixie Rd.\n\nNazareth\, PA 18064\nkingfish@fast.net \nlitlpond@fast.net\nlitlpond9@gmail.com\n\n610-570-1335
URL:https://www.bahailv.org/event/little-pond-devotional-a-crisis-of-identity-february-12-1-pm/
ATTACH;FMTTYPE=image/jpeg:https://www.bahailv.org/wp-content/uploads/2021/09/Devotions-3.jpeg
END:VEVENT
END:VCALENDAR