BEGIN:VCALENDAR
VERSION:2.0
PRODID:-//Lehigh Valley Bahai - ECPv6.15.20//NONSGML v1.0//EN
CALSCALE:GREGORIAN
METHOD:PUBLISH
X-ORIGINAL-URL:https://www.bahailv.org
X-WR-CALDESC:Events for Lehigh Valley Bahai
REFRESH-INTERVAL;VALUE=DURATION:PT1H
X-Robots-Tag:noindex
X-PUBLISHED-TTL:PT1H
BEGIN:VTIMEZONE
TZID:America/New_York
BEGIN:DAYLIGHT
TZOFFSETFROM:-0500
TZOFFSETTO:-0400
TZNAME:EDT
DTSTART:20220313T070000
END:DAYLIGHT
BEGIN:STANDARD
TZOFFSETFROM:-0400
TZOFFSETTO:-0500
TZNAME:EST
DTSTART:20221106T060000
END:STANDARD
BEGIN:DAYLIGHT
TZOFFSETFROM:-0500
TZOFFSETTO:-0400
TZNAME:EDT
DTSTART:20230312T070000
END:DAYLIGHT
BEGIN:STANDARD
TZOFFSETFROM:-0400
TZOFFSETTO:-0500
TZNAME:EST
DTSTART:20231105T060000
END:STANDARD
BEGIN:DAYLIGHT
TZOFFSETFROM:-0500
TZOFFSETTO:-0400
TZNAME:EDT
DTSTART:20240310T070000
END:DAYLIGHT
BEGIN:STANDARD
TZOFFSETFROM:-0400
TZOFFSETTO:-0500
TZNAME:EST
DTSTART:20241103T060000
END:STANDARD
END:VTIMEZONE
BEGIN:VEVENT
DTSTART;TZID=America/New_York:20230207T183000
DTEND;TZID=America/New_York:20230207T203000
DTSTAMP:20260425T205156
CREATED:20220809T164910Z
LAST-MODIFIED:20230201T064847Z
UID:10000482-1675794600-1675801800@www.bahailv.org
SUMMARY:Feast of Mulk (Dominion) - Hosted by Margie Ensminger.  Click here for details.
DESCRIPTION:Host – Margie Ensminger. \n  \nDear Friends\, \n\nMargie Ensminger warmly invites you to the Feast of Mulk at her home on Tuesday\, February 7 at 6:30pm. This is the first 19 Day Feast that Margie is hosting so it should be very special for her. \nThe Feast will be in person and in the event of snow\, the Feast will be rescheduled to Saturday\, Feb. 11 at 4pm. \nFeast is being started at this earlier time of 6:30pm to increase the likelihood that families with children can attend.\n\nMargie’s address is 495 Village Drive\, Bethlehem PA  18018 and her phone number is 610-625-4671.\n\nWarm regards\,\nRoseann Bowerman for the LSA of Bethlehem Township
URL:https://www.bahailv.org/event/feast-of-mulk-dominion-host-tbd-click-here-for-details-2/
ATTACH;FMTTYPE=image/jpeg:https://www.bahailv.org/wp-content/uploads/2021/08/Feast.jpg
END:VEVENT
END:VCALENDAR