BEGIN:VCALENDAR
VERSION:2.0
PRODID:-//Lehigh Valley Bahai - ECPv6.15.20//NONSGML v1.0//EN
CALSCALE:GREGORIAN
METHOD:PUBLISH
X-ORIGINAL-URL:https://www.bahailv.org
X-WR-CALDESC:Events for Lehigh Valley Bahai
REFRESH-INTERVAL;VALUE=DURATION:PT1H
X-Robots-Tag:noindex
X-PUBLISHED-TTL:PT1H
BEGIN:VTIMEZONE
TZID:America/New_York
BEGIN:DAYLIGHT
TZOFFSETFROM:-0500
TZOFFSETTO:-0400
TZNAME:EDT
DTSTART:20220313T070000
END:DAYLIGHT
BEGIN:STANDARD
TZOFFSETFROM:-0400
TZOFFSETTO:-0500
TZNAME:EST
DTSTART:20221106T060000
END:STANDARD
BEGIN:DAYLIGHT
TZOFFSETFROM:-0500
TZOFFSETTO:-0400
TZNAME:EDT
DTSTART:20230312T070000
END:DAYLIGHT
BEGIN:STANDARD
TZOFFSETFROM:-0400
TZOFFSETTO:-0500
TZNAME:EST
DTSTART:20231105T060000
END:STANDARD
BEGIN:DAYLIGHT
TZOFFSETFROM:-0500
TZOFFSETTO:-0400
TZNAME:EDT
DTSTART:20240310T070000
END:DAYLIGHT
BEGIN:STANDARD
TZOFFSETFROM:-0400
TZOFFSETTO:-0500
TZNAME:EST
DTSTART:20241103T060000
END:STANDARD
END:VTIMEZONE
BEGIN:VEVENT
DTSTART;TZID=America/New_York:20230115T100000
DTEND;TZID=America/New_York:20230115T110000
DTSTAMP:20260425T221415
CREATED:20230111T154108Z
LAST-MODIFIED:20230202T062816Z
UID:10001074-1673776800-1673780400@www.bahailv.org
SUMMARY:Study of the 9 Year Plan
DESCRIPTION:Dear friends\,\nPlease join us Sunday for studying of the Nine Year Plan.\n\n\n\n\nTopic: Study of the Nine Year Plan\n\nTime: Sunday January 15th 10:00 AM Eastern Time (US and Canada) \n\nJoin Zoom Meeting.  Link emailed directly to the friends.
URL:https://www.bahailv.org/event/study-of-the-9-year-plan/2023-01-15/
ATTACH;FMTTYPE=image/webp:https://www.bahailv.org/wp-content/uploads/2022/10/The-Nine-Year-Plan-2022-2031.webp
END:VEVENT
BEGIN:VEVENT
DTSTART;TZID=America/New_York:20230115T193000
DTEND;TZID=America/New_York:20230115T203000
DTSTAMP:20260425T221415
CREATED:20221227T205609Z
LAST-MODIFIED:20221227T205609Z
UID:10001070-1673811000-1673814600@www.bahailv.org
SUMMARY:Sunday night Healing Devotionals via Zoom - hosted by Moira & Randy Padfield.  Click here for details.
DESCRIPTION:Dear friends\,  \nThe Padfield family are hosting a devotional via Zoom Sunday evening at 7:30pm and each Sunday thereafter.  Link will be emailed to the friends directly.  We will be saying prayers for Richard Beane (our son-in-law in Belize) and Shirin’s sister as well as others in the community in need of healing prayers. We will also offer healing prayers for our community\, country and the world.   \nWe would be happy to have you join us and would welcome anything you would like to contribute in the form of prayers\, Writings\, or poems.   \nWe hope to see you on Sunday night. \nWith loving regards\,
URL:https://www.bahailv.org/event/sunday-night-healing-devotionals-via-zoom-hosted-by-moira-randy-padfield-click-here-for-details/2023-01-15/
ATTACH;FMTTYPE=image/jpeg:https://www.bahailv.org/wp-content/uploads/2020/05/devotions.jpg
END:VEVENT
END:VCALENDAR