BEGIN:VCALENDAR
VERSION:2.0
PRODID:-//Lehigh Valley Bahai - ECPv6.15.20//NONSGML v1.0//EN
CALSCALE:GREGORIAN
METHOD:PUBLISH
X-ORIGINAL-URL:https://www.bahailv.org
X-WR-CALDESC:Events for Lehigh Valley Bahai
REFRESH-INTERVAL;VALUE=DURATION:PT1H
X-Robots-Tag:noindex
X-PUBLISHED-TTL:PT1H
BEGIN:VTIMEZONE
TZID:America/New_York
BEGIN:DAYLIGHT
TZOFFSETFROM:-0500
TZOFFSETTO:-0400
TZNAME:EDT
DTSTART:20220313T070000
END:DAYLIGHT
BEGIN:STANDARD
TZOFFSETFROM:-0400
TZOFFSETTO:-0500
TZNAME:EST
DTSTART:20221106T060000
END:STANDARD
BEGIN:DAYLIGHT
TZOFFSETFROM:-0500
TZOFFSETTO:-0400
TZNAME:EDT
DTSTART:20230312T070000
END:DAYLIGHT
BEGIN:STANDARD
TZOFFSETFROM:-0400
TZOFFSETTO:-0500
TZNAME:EST
DTSTART:20231105T060000
END:STANDARD
BEGIN:DAYLIGHT
TZOFFSETFROM:-0500
TZOFFSETTO:-0400
TZNAME:EDT
DTSTART:20240310T070000
END:DAYLIGHT
BEGIN:STANDARD
TZOFFSETFROM:-0400
TZOFFSETTO:-0500
TZNAME:EST
DTSTART:20241103T060000
END:STANDARD
END:VTIMEZONE
BEGIN:VEVENT
DTSTART;TZID=America/New_York:20230101T130000
DTEND;TZID=America/New_York:20230101T140000
DTSTAMP:20260425T221619
CREATED:20221226T201651Z
LAST-MODIFIED:20221226T201820Z
UID:10000394-1672578000-1672581600@www.bahailv.org
SUMMARY:Monthly Sunday devotions hosted by Bill & Bridget George starting at 1 p.m.
DESCRIPTION:Devotions hosted by Bill & Bridget George on Sundays at 1 p.m.  Contact Bill @ 610 570 1335. \n\n\n\n\nYou and your guests are invited to Little Pond for our New Year’s Day Devotional Gathering\n\n\n\n\n\n\n\n\non the theme of Humility – Sunday January 1 at 1pm. Prayers\, Poetry\, Music\, Writings from Sacred Texts\n\n\n\n\n\n\n\n\nand time together to share our New Year thoughts and hopes\, with light refreshments following.\n\n\n\n\n\n\n\n\n\n\nWe are delighted that a lovely young couple\, Nicholas Clark and Sasha Brown\, whom we met through\n\n\n\n\n\n\n\n\na writing workshop for Festival Unbound\, will be performing the music for this devotional. They recently\n\n\n\n\n\n\n\n\nmoved to the Lehigh Valley. Nicholas is a music therapist at KidsPeace and Sasha is an occupational\n\n\n\n\n\n\n\n\n\ntherapist at St. Lukes Hospital. We look foward to welcoming them!\n\n\n\n\n\n\n          It is helpful for you to let us know ahead of time if you are coming by responding to bridgetgeorge9@gmail.com. \n\n\n\n\n\nPlease join us if you can. \nBill and Bridget George \nDirections to Little Pond\, 92 S. Penn Dixie Rd. Nazareth PA 18064\, are on our website. \n\nhttps://littlepond.org/
URL:https://www.bahailv.org/event/monthly-devotions-hosted-by-bill-bridget-george-2022-04-03-3/
ATTACH;FMTTYPE=image/jpeg:https://www.bahailv.org/wp-content/uploads/2021/09/Devotions-3.jpeg
END:VEVENT
END:VCALENDAR