BEGIN:VCALENDAR
VERSION:2.0
PRODID:-//Lehigh Valley Bahai - ECPv6.15.20//NONSGML v1.0//EN
CALSCALE:GREGORIAN
METHOD:PUBLISH
X-WR-CALNAME:Lehigh Valley Bahai
X-ORIGINAL-URL:https://www.bahailv.org
X-WR-CALDESC:Events for Lehigh Valley Bahai
REFRESH-INTERVAL;VALUE=DURATION:PT1H
X-Robots-Tag:noindex
X-PUBLISHED-TTL:PT1H
BEGIN:VTIMEZONE
TZID:America/New_York
BEGIN:DAYLIGHT
TZOFFSETFROM:-0500
TZOFFSETTO:-0400
TZNAME:EDT
DTSTART:20210314T070000
END:DAYLIGHT
BEGIN:STANDARD
TZOFFSETFROM:-0400
TZOFFSETTO:-0500
TZNAME:EST
DTSTART:20211107T060000
END:STANDARD
BEGIN:DAYLIGHT
TZOFFSETFROM:-0500
TZOFFSETTO:-0400
TZNAME:EDT
DTSTART:20220313T070000
END:DAYLIGHT
BEGIN:STANDARD
TZOFFSETFROM:-0400
TZOFFSETTO:-0500
TZNAME:EST
DTSTART:20221106T060000
END:STANDARD
BEGIN:DAYLIGHT
TZOFFSETFROM:-0500
TZOFFSETTO:-0400
TZNAME:EDT
DTSTART:20230312T070000
END:DAYLIGHT
BEGIN:STANDARD
TZOFFSETFROM:-0400
TZOFFSETTO:-0500
TZNAME:EST
DTSTART:20231105T060000
END:STANDARD
END:VTIMEZONE
BEGIN:VEVENT
DTSTART;TZID=America/New_York:20221218T100000
DTEND;TZID=America/New_York:20221218T120000
DTSTAMP:20260425T232755
CREATED:20221008T231121Z
LAST-MODIFIED:20221009T191009Z
UID:10000550-1671357600-1671364800@www.bahailv.org
SUMMARY:In person Baha’i Learning Center 10am-12noon at  Lehigh Valley Center for Sight\, Allentown\, PA  18104. 
DESCRIPTION:Dear friends please join us for the start of the Baha’i Learning Center in person.  \n\nBaha’i Learning Center 10am-12noon.  Location: In person at Houman Ahdieh’s office\, Lehigh Valley Center for Sight\, 1739 West Fairmont Street\, Allentown\, PA  18104.  \nWe look forward to seeing you\,  Moira Padfield for the LSA of Bethlehem Township
URL:https://www.bahailv.org/event/in-person-bahai-learning-center-10am-12noon-at-lehigh-valley-center-for-sight-allentown-pa-18104-2/
ATTACH;FMTTYPE=image/jpeg:https://www.bahailv.org/wp-content/uploads/2021/03/Childrens-classes.jpeg
END:VEVENT
BEGIN:VEVENT
DTSTART;TZID=America/New_York:20221218T193000
DTEND;TZID=America/New_York:20221218T203000
DTSTAMP:20260425T232755
CREATED:20211212T164718Z
LAST-MODIFIED:20211231T031351Z
UID:10000342-1671391800-1671395400@www.bahailv.org
SUMMARY:Sunday night Healing Devotionals via Zoom - hosted by Moira & Randy Padfield.  Click here for details.
DESCRIPTION:Sunday healing devotional beginning at 7:30pm on Zoom.  People can contact Randy at 201-315-3681 for the link.  We are going to try to host this once a week on Sundays at 7:30pm. People should feel free to bring a prayer\, poem or Writing to share if they would like. \nDear friends\,  \nThe Padfield family are hosting a devotional via Zoom (link below) this Sunday evening November 8\, at 7:30pm and each Sunday thereafter.   We will be saying prayers for Richard Beane (our son-in-law in Belize) and Shirin’s sister as well as others in the community in need of healing prayers. We will also offer healing prayers for our community\, country and the world.   \nWe would be happy to have you join us and would welcome anything you would like to contribute in the form of prayers\, Writings\, or poems.   \nWe hope to see you on Sunday night. \nWith loving regards\,
URL:https://www.bahailv.org/event/sunday-nigh-healing-devotionals-via-zoom-hosted-by-moira-randy-padfield-click-here-for-details/2022-12-18/
ATTACH;FMTTYPE=image/jpeg:https://www.bahailv.org/wp-content/uploads/2020/05/devotions.jpg
END:VEVENT
END:VCALENDAR