BEGIN:VCALENDAR
VERSION:2.0
PRODID:-//Lehigh Valley Bahai - ECPv6.15.20//NONSGML v1.0//EN
CALSCALE:GREGORIAN
METHOD:PUBLISH
X-WR-CALNAME:Lehigh Valley Bahai
X-ORIGINAL-URL:https://www.bahailv.org
X-WR-CALDESC:Events for Lehigh Valley Bahai
REFRESH-INTERVAL;VALUE=DURATION:PT1H
X-Robots-Tag:noindex
X-PUBLISHED-TTL:PT1H
BEGIN:VTIMEZONE
TZID:America/New_York
BEGIN:DAYLIGHT
TZOFFSETFROM:-0500
TZOFFSETTO:-0400
TZNAME:EDT
DTSTART:20210314T070000
END:DAYLIGHT
BEGIN:STANDARD
TZOFFSETFROM:-0400
TZOFFSETTO:-0500
TZNAME:EST
DTSTART:20211107T060000
END:STANDARD
BEGIN:DAYLIGHT
TZOFFSETFROM:-0500
TZOFFSETTO:-0400
TZNAME:EDT
DTSTART:20220313T070000
END:DAYLIGHT
BEGIN:STANDARD
TZOFFSETFROM:-0400
TZOFFSETTO:-0500
TZNAME:EST
DTSTART:20221106T060000
END:STANDARD
BEGIN:DAYLIGHT
TZOFFSETFROM:-0500
TZOFFSETTO:-0400
TZNAME:EDT
DTSTART:20230312T070000
END:DAYLIGHT
BEGIN:STANDARD
TZOFFSETFROM:-0400
TZOFFSETTO:-0500
TZNAME:EST
DTSTART:20231105T060000
END:STANDARD
END:VTIMEZONE
BEGIN:VEVENT
DTSTART;TZID=America/New_York:20221212T193000
DTEND;TZID=America/New_York:20221212T213000
DTSTAMP:20260425T232755
CREATED:20220809T163253Z
LAST-MODIFIED:20221206T024632Z
UID:10000479-1670873400-1670880600@www.bahailv.org
SUMMARY:Feast of Masail (Questions) to be hosted by Kelvin & Kiara Almonte.  Click here for details.
DESCRIPTION:  \nDear friends\, \nKelvin and Kiera Almonte warmly welcome you to the Feast of Masá’il (Questions) on Monday evening\, December 12\, 2022 at 7:30 PM. \nThe Feast will be held in person in the 11th floor party room of Ana and Ivan Almonte’s apartment building. Located at 1616 Liberty St.\, Allentown\, PA. Because this is a senior housing unit\, masks are required to enter the building. The code to use to reach Ana and to have her unlock the front door is 024. \nPlease do NOT park in the CVS parking lot across the street. Please park on the street. \nWe will try to make online access available through Zoom at the link here: \nhttps://us02web.zoom.us/j/87230336132?pwd=djZRRlNmRndudEJrZGhKNWhaZDJ0Zz09\n \nShould you wish to contact Kiera\, her mobile number is \n484-477-5945. \nWe hope you can make it! \n\nWarm regards\, \n\nRoseann Bowerman for the Local Spiritual Assembly of Bethlehem 
URL:https://www.bahailv.org/event/feast-of-masail-questions-to-be-hosted-by-kelvin-kiara-almonte-click-here-for-details/
ATTACH;FMTTYPE=image/jpeg:https://www.bahailv.org/wp-content/uploads/2021/08/Feast.jpg
END:VEVENT
END:VCALENDAR