BEGIN:VCALENDAR
VERSION:2.0
PRODID:-//Lehigh Valley Bahai - ECPv6.15.20//NONSGML v1.0//EN
CALSCALE:GREGORIAN
METHOD:PUBLISH
X-WR-CALNAME:Lehigh Valley Bahai
X-ORIGINAL-URL:https://www.bahailv.org
X-WR-CALDESC:Events for Lehigh Valley Bahai
REFRESH-INTERVAL;VALUE=DURATION:PT1H
X-Robots-Tag:noindex
X-PUBLISHED-TTL:PT1H
BEGIN:VTIMEZONE
TZID:America/New_York
BEGIN:DAYLIGHT
TZOFFSETFROM:-0500
TZOFFSETTO:-0400
TZNAME:EDT
DTSTART:20210314T070000
END:DAYLIGHT
BEGIN:STANDARD
TZOFFSETFROM:-0400
TZOFFSETTO:-0500
TZNAME:EST
DTSTART:20211107T060000
END:STANDARD
BEGIN:DAYLIGHT
TZOFFSETFROM:-0500
TZOFFSETTO:-0400
TZNAME:EDT
DTSTART:20220313T070000
END:DAYLIGHT
BEGIN:STANDARD
TZOFFSETFROM:-0400
TZOFFSETTO:-0500
TZNAME:EST
DTSTART:20221106T060000
END:STANDARD
BEGIN:DAYLIGHT
TZOFFSETFROM:-0500
TZOFFSETTO:-0400
TZNAME:EDT
DTSTART:20230312T070000
END:DAYLIGHT
BEGIN:STANDARD
TZOFFSETFROM:-0400
TZOFFSETTO:-0500
TZNAME:EST
DTSTART:20231105T060000
END:STANDARD
END:VTIMEZONE
BEGIN:VEVENT
DTSTART;TZID=America/New_York:20221204T100000
DTEND;TZID=America/New_York:20221204T120000
DTSTAMP:20260425T232755
CREATED:20221008T230823Z
LAST-MODIFIED:20221009T191434Z
UID:10000549-1670148000-1670155200@www.bahailv.org
SUMMARY:In person Baha’i Learning Center 10 am-12 noon at Lehigh Valley Center for Sight\,  Allentown\, PA  18104. 
DESCRIPTION:Dear friends please join us for the start of the Baha’i Learning Center in person. \n\nBaha’i Learning Center 10am-12noon.  Location: In person at Houman Ahdieh’s office\, Lehigh Valley Center for Sight\, 1739 West Fairmont Street\, Allentown\, PA  18104.  \n\nWe look forward to seeing you\,  Moira Padfield for the LSA of Bethlehem Township
URL:https://www.bahailv.org/event/in-person-bahai-learning-center-10-am-12-noon-at-lehigh-valley-center-for-sight-allentown-pa-18104/
ATTACH;FMTTYPE=image/jpeg:https://www.bahailv.org/wp-content/uploads/2021/03/Childrens-classes.jpeg
END:VEVENT
END:VCALENDAR